BEGIN:VCALENDAR
VERSION:2.0
PRODID:-//BEACHHOME Costa Rica Vacation Rentals - ECPv6.15.17.1//NONSGML v1.0//EN
CALSCALE:GREGORIAN
METHOD:PUBLISH
X-ORIGINAL-URL:https://beachhomecostarica.com
X-WR-CALDESC:Events for BEACHHOME Costa Rica Vacation Rentals
REFRESH-INTERVAL;VALUE=DURATION:PT1H
X-Robots-Tag:noindex
X-PUBLISHED-TTL:PT1H
BEGIN:VTIMEZONE
TZID:America/Costa_Rica
BEGIN:STANDARD
TZOFFSETFROM:-0600
TZOFFSETTO:-0600
TZNAME:CST
DTSTART:20200101T000000
END:STANDARD
END:VTIMEZONE
BEGIN:VEVENT
DTSTART;VALUE=DATE:20220222
DTEND;VALUE=DATE:20220223
DTSTAMP:20260420T121647
CREATED:20210902T040948Z
LAST-MODIFIED:20210902T040948Z
UID:8674-1645488000-1645574399@beachhomecostarica.com
SUMMARY:LEG 2 - 4th ANNUAL LADIES ONLY TOURNAMENT
DESCRIPTION:LOOKING FORWARD TO THE 4th ANNUAL LADIES ONLY TOURNAMENT\n\n\nOne-Day Only Each Leg in 2022 | January 25\, February 22\, March 29\nIn 2021 we increased the opportunity for lady anglers on boats in Los Sueños Marina to compete against each other\, adding a one-day boat tournament to be held the Tuesday before each leg of the Signature Triple Crown and due to the success of the series\, we will be continuing the tradition in 2022! \n\n\n\n\nEntry is FREE for boats participating in all three legs of the Signature Triple Crown. The points from the three individual events will be tallied to determine the top three teams overall in March\, as well as the Top Angler. For those NOT participating in all three legs of the Triple Crown\, the entry fee is $5\,000.
URL:https://beachhomecostarica.com/event/leg-2-4th-annual-ladies-only-tournament/
LOCATION:Los Sueños Marina\, Los Sueños Resort\, Herradura\, Puntarenas\, 61101\, Costa Rica
CATEGORIES:Sport,Sportfishing Tournaments
ATTACH;FMTTYPE=image/png:https://beachhomecostarica.com/wp-content/uploads/2021/09/Ladies_only_tournaments_LOGO-300x97-1.png
ORGANIZER;CN="Signature Triple Crown":MAILTO:director@signaturebillfishseries.com
END:VEVENT
BEGIN:VEVENT
DTSTART;VALUE=DATE:20220126
DTEND;VALUE=DATE:20220130
DTSTAMP:20260420T121647
CREATED:20210902T033455Z
LAST-MODIFIED:20210902T034022Z
UID:8663-1643155200-1643500799@beachhomecostarica.com
SUMMARY:LEG 1 NINTH ANNUAL Signature Triple Crown in 2022
DESCRIPTION:2022 WILL BE HERE BEFORE YOU KNOW IT!\n\n\n\n\nWe are thrilled to invite any boat with a slip in the Los Sueños Marina to participate in the NINTH ANNUAL Signature Triple Crown in 2022. We anxiously await another season of intense and jovial competition.
URL:https://beachhomecostarica.com/event/leg-1-ninth-annual-signature-triple-crown-in-2022/
LOCATION:Los Sueños Marina\, Los Sueños Resort\, Herradura\, Puntarenas\, 61101\, Costa Rica
CATEGORIES:Sport,Sportfishing Tournaments
ATTACH;FMTTYPE=image/png:https://beachhomecostarica.com/wp-content/uploads/2021/09/Triple-Crown-Generic-Logo-web-small.png
ORGANIZER;CN="Signature Triple Crown":MAILTO:director@signaturebillfishseries.com
END:VEVENT
BEGIN:VEVENT
DTSTART;VALUE=DATE:20211125
DTEND;VALUE=DATE:20211126
DTSTAMP:20260420T121647
CREATED:20210902T030539Z
LAST-MODIFIED:20210902T041651Z
UID:8659-1637798400-1637884799@beachhomecostarica.com
SUMMARY:Torneo La Iguana Turkey Shoot 2021
DESCRIPTION:Format: We will be playing Stableford format where each player plays his own ball in Stroke play format\nin which in each hole is scored in relation to the pair: 1 point for one over the par (Bogey)\, 2 for\nthe Par\, 3 for one under the par (birdie)\, 4 for two under the par (Hole in one\, Eagle). 5 for three\nunder par (Hole in one\, Albatross). After all players have teed off a blind draw determines which\n9 holes will count towards the total for the round The Winners will be the highest score in\nstableford points for the selected 9 holes. \nHandicap: The official handicap (ANAGOLF / USGA) will be used. If you do not have a handicap\, you are\nassigned one through the callaway system. The player who wins the tournament must have an\nofficial handicap. \nTees: All men will play from the Blue Tees. All ladies will play from the Red Tees \nRules: R&A rules govern the play. \nWhite stakes\, white lines and white paint on cart paths mark out of bounds.\nWhite lines mark ground under repair.\nYellow lines\, yellow paint on cart paths and yellow stakes define frontal hazards.\nRed lines\, red paint on cart paths and red stakes define lateral hazards. \nYardage: All yard markers are measured to the center of the green. \nResults: The first\, second place net will be awarded for the Stableford points on the blind 9 holes \nPin location: Based on pin placement sheet. \nTies: All ties will be decided by a team playoff beginning with the 18th hole. Except for the champion\nwho will be sudden death on the 18th hole \nRules Committee: José Quesada. \nPlease return all scorecards to the scoring area immediately upon completion of play.
URL:https://beachhomecostarica.com/event/torneo-la-iguana-turkey-shoot-2021/
LOCATION:La Iguana Golf Course\, Hoyo 19\, Los Sueños Resort\, Puntarenas\, 61101\, Costa Rica
CATEGORIES:Golf Tournaments,Sport
ATTACH;FMTTYPE=image/jpeg:https://beachhomecostarica.com/wp-content/uploads/2021/09/LaIguanaGolfCourse.jpg
ORGANIZER;CN="La Iguana Golf Course at Los Sue%C3%B1os Resort":MAILTO:LaIguanaGolfCourse@marriott.com
END:VEVENT
BEGIN:VEVENT
DTSTART;VALUE=DATE:20210903
DTEND;VALUE=DATE:20210906
DTSTAMP:20260420T121647
CREATED:20210902T024108Z
LAST-MODIFIED:20210902T041554Z
UID:8652-1630627200-1630886399@beachhomecostarica.com
SUMMARY:La Iguana Senior & Open Championship 2021
DESCRIPTION:SENIOR & OPEN CHAMPIONSHIP 2021\n  \nWORLD AMATEUR GOLF RANKING\nSEPTEMBER 3/4/5        \nENTRY FEE US$230 plus 13% iva \nMODALITY \n54 holes – Stableford Individual Gross \n54 holes- Individual Medal Play \n100 % Handicap Official \nIncluded green fee and lunch every day \nPRIZES \nChampion trophy and two night stay with golf for Gross and Net Winners \nDOWNLOAD APPLICATION \nRegistration closure on Thursday\, September 2\, 2021 at 12 pm
URL:https://beachhomecostarica.com/event/la-iguana-senior-open-championship-2021/
LOCATION:La Iguana Golf Course\, Hoyo 19\, Los Sueños Resort\, Puntarenas\, 61101\, Costa Rica
CATEGORIES:Golf Tournaments,Sport
ATTACH;FMTTYPE=image/jpeg:https://beachhomecostarica.com/wp-content/uploads/2021/09/LaIguanaGolfCourse.jpg
ORGANIZER;CN="La Iguana Golf Course at Los Sue%C3%B1os Resort":MAILTO:LaIguanaGolfCourse@marriott.com
END:VEVENT
END:VCALENDAR